BEGIN:VCALENDAR
VERSION:2.0
PRODID:-//wp-events-plugin.com//7.2.3.1//EN
TZID:America/Denver
X-WR-TIMEZONE:America/Denver
BEGIN:VEVENT
UID:5@angelswithpaws.net
DTSTART;TZID=America/Denver:20260502T080000
DTEND;TZID=America/Denver:20260502T140000
DTSTAMP:20260424T114217Z
URL:https://angelswithpaws.net/events/a-paris-street-market/
SUMMARY:A Paris Street Market
DESCRIPTION:Join Angels With Paws Cat Rescue &amp\; Adoption Center at A Pa
 ris Street Market at Aspen Grove!\n\nWe’ll be on-site with a booth shari
 ng information about our rescue\, upcoming events\, and ways you can suppo
 rt our mission. Stop by to meet our team\, learn about fostering and adopt
 ion opportunities\, and find out how you can get involved.\n\nA Paris Stre
 et Market features over 100 vendors offering antiques\, handmade goods\, l
 ocal artisan products\, clothing\, jewelry\, garden décor\, and more. Enj
 oy a lively open-air shopping experience along with food vendors throughou
 t the market.\n\nCome shop\, explore\, and don’t forget to visit the Ang
 els With Paws booth!
ATTACH;FMTTYPE=image/jpeg:https://angelswithpaws.net/wp-content/uploads/20
 26/04/A-paris-Street-Market.jpg
LOCATION:Aspen Grove\, 7301 S. Santa Fe Drive\, Littleton\, Colorado\, 8012
 0\, United States
X-APPLE-STRUCTURED-LOCATION;VALUE=URI;X-ADDRESS=7301 S. Santa Fe Drive\, Li
 ttleton\, Colorado\, 80120\, United States;X-APPLE-RADIUS=100;X-TITLE=Aspe
 n Grove:geo:0,0
END:VEVENT
BEGIN:VTIMEZONE
TZID:America/Denver
X-LIC-LOCATION:America/Denver
BEGIN:DAYLIGHT
DTSTART:20260308T030000
TZOFFSETFROM:-0700
TZOFFSETTO:-0600
TZNAME:MDT
END:DAYLIGHT
END:VTIMEZONE
END:VCALENDAR