BEGIN:VCALENDAR
VERSION:2.0
PRODID:-//wp-events-plugin.com//7.2.3.1//EN
TZID:America/Denver
X-WR-TIMEZONE:America/Denver
BEGIN:VEVENT
UID:6@angelswithpaws.net
DTSTART;TZID=America/Denver:20260503T110000
DTEND;TZID=America/Denver:20260503T180000
DTSTAMP:20260424T114952Z
URL:https://angelswithpaws.net/events/flash-tattoo-fundraiser/
SUMMARY:Flash Tattoo Fundraiser
DESCRIPTION:Join Angels With Paws Cat Rescue &amp\; Adoption Center at the 
 Flash Tattoo Fundraiser!\n\nWe’ll be bringing adoptable cats looking for
  their forever homes. Stop by to meet them\, learn about our adoption proc
 ess\, and find out how you can support our rescue.\n\nThis event is hosted
  by Mountain Coast Ink in support of Animal Assisted Therapy Programs of C
 olorado. Enjoy flash tattoos\, local artists\, face painting\, and more th
 roughout the day.\n\nCome out for a fun day and don’t miss the chance to
  meet some amazing adoptable cats!
ATTACH;FMTTYPE=image/jpeg:https://angelswithpaws.net/wp-content/uploads/20
 26/04/Mountain-Coast-Ink-Flash-Tattoo.jpg
LOCATION:Mountain Coast Ink\, 2575 Youngfield St C\, Golden\, Colorado\, 80
 401\, United States
X-APPLE-STRUCTURED-LOCATION;VALUE=URI;X-ADDRESS=2575 Youngfield St C\, Gold
 en\, Colorado\, 80401\, United States;X-APPLE-RADIUS=100;X-TITLE=Mountain 
 Coast Ink:geo:0,0
END:VEVENT
BEGIN:VTIMEZONE
TZID:America/Denver
X-LIC-LOCATION:America/Denver
BEGIN:DAYLIGHT
DTSTART:20260308T030000
TZOFFSETFROM:-0700
TZOFFSETTO:-0600
TZNAME:MDT
END:DAYLIGHT
END:VTIMEZONE
END:VCALENDAR