BEGIN:VCALENDAR
VERSION:2.0
PRODID:-//wp-events-plugin.com//7.2.3.1//EN
TZID:America/Denver
X-WR-TIMEZONE:America/Denver
BEGIN:VEVENT
UID:4@angelswithpaws.net
DTSTART;TZID=America/Denver:20260509T120000
DTEND;TZID=America/Denver:20260509T133000
DTSTAMP:20260424T120853Z
URL:https://angelswithpaws.net/events/kitten-yoga/
SUMMARY:Kitten Yoga
DESCRIPTION:Enjoy a slow\, grounding 1-hour yoga class\, followed by 30 min
 utes of playful time with adoptable kittens and the option to begin the ad
 option process.\n\nHosted at Vivid Minds Cafe in collaboration with Angels
  With Paws Cat Rescue &amp\; Adoption Center.\n\nTickets are $30.\n\nDonat
 e to Angels With Paws and receive 10% off anything on the menu.
ATTACH;FMTTYPE=image/jpeg:https://angelswithpaws.net/wp-content/uploads/20
 26/04/Vivid-Minds-Cafe-Event.jpg
LOCATION:Vivid Minds Cafe\, 1545 S Broadway\, Denver\, Colorado\, 80210\, U
 nited States
X-APPLE-STRUCTURED-LOCATION;VALUE=URI;X-ADDRESS=1545 S Broadway\, Denver\, 
 Colorado\, 80210\, United States;X-APPLE-RADIUS=100;X-TITLE=Vivid Minds Ca
 fe:geo:0,0
END:VEVENT
BEGIN:VTIMEZONE
TZID:America/Denver
X-LIC-LOCATION:America/Denver
BEGIN:DAYLIGHT
DTSTART:20260308T030000
TZOFFSETFROM:-0700
TZOFFSETTO:-0600
TZNAME:MDT
END:DAYLIGHT
END:VTIMEZONE
END:VCALENDAR